BEGIN:VCALENDAR
VERSION:2.0
PRODID:-//jEvents 2.0 for Joomla//EN
CALSCALE:GREGORIAN
METHOD:PUBLISH
BEGIN:VEVENT
UID:a3ba671b016a4b3606f09fcc472757e4
CATEGORIES:General
CREATED:20191219T162547
SUMMARY:New Years Eve Games night
DESCRIPTION:
DTSTAMP:20260422T134643
DTSTART:20191231T180000
SEQUENCE:0
TRANSP:OPAQUE
END:VEVENT
END:VCALENDAR