BEGIN:VCALENDAR
VERSION:2.0
PRODID:-//jEvents 2.0 for Joomla//EN
CALSCALE:GREGORIAN
METHOD:PUBLISH
BEGIN:VEVENT
UID:a82909a1735b7364e82bdecddb0afd92
CATEGORIES:General
CREATED:20201027T141221
SUMMARY:Nov. 8 Service
DESCRIPTION:
DTSTAMP:20260422T055445
DTSTART:20201108T103000
SEQUENCE:0
TRANSP:OPAQUE
END:VEVENT
END:VCALENDAR