BEGIN:VCALENDAR
VERSION:2.0
PRODID:-//jEvents 2.0 for Joomla//EN
CALSCALE:GREGORIAN
METHOD:PUBLISH
BEGIN:VEVENT
UID:69d22b8c220bbbf506a07d57730b4bf1
CATEGORIES:General
CREATED:20201112T102727
SUMMARY:Nov. 22 Service
DESCRIPTION:
DTSTAMP:20260422T042309
DTSTART:20201122T103000
SEQUENCE:0
TRANSP:OPAQUE
END:VEVENT
END:VCALENDAR