BEGIN:VCALENDAR
VERSION:2.0
PRODID:-//jEvents 2.0 for Joomla//EN
CALSCALE:GREGORIAN
METHOD:PUBLISH
BEGIN:VEVENT
UID:807c5f54ff9e4634091174f55ca5cab9
CATEGORIES:General
CREATED:19700101T000000
SUMMARY:prayer meeting
DESCRIPTION:
DTSTAMP:20260421T182123
DTSTART:20201129T190000
SEQUENCE:0
RRULE:FREQ=WEEKLY;UNTIL=20201221T000000Z;INTERVAL=1;BYDAY=SU
TRANSP:OPAQUE
END:VEVENT
END:VCALENDAR