BEGIN:VCALENDAR
VERSION:2.0
PRODID:-//jEvents 2.0 for Joomla//EN
CALSCALE:GREGORIAN
METHOD:PUBLISH
BEGIN:VEVENT
UID:f62b3adf4339e4f1fb3fdce517887f40
CATEGORIES:General
CREATED:19700101T000000
SUMMARY:Philippians Bible Study
DESCRIPTION:
DTSTAMP:20260421T233720
DTSTART:20210113T193000
SEQUENCE:0
RRULE:FREQ=WEEKLY;UNTIL=20210128T000000Z;INTERVAL=1;BYDAY=WE
TRANSP:OPAQUE
END:VEVENT
END:VCALENDAR