BEGIN:VCALENDAR
VERSION:2.0
PRODID:-//jEvents 2.0 for Joomla//EN
CALSCALE:GREGORIAN
METHOD:PUBLISH
BEGIN:VEVENT
UID:d45492d07c7fef2f1a3b5a6d773ce65e
CATEGORIES:General
CREATED:20210119T201611
SUMMARY:Jan 31 Service
DESCRIPTION:
DTSTAMP:20260421T170400
DTSTART:20210131T163000
DTEND;VALUE=DATE:20210201
SEQUENCE:0
TRANSP:OPAQUE
END:VEVENT
END:VCALENDAR