BEGIN:VCALENDAR
VERSION:2.0
PRODID:-//jEvents 2.0 for Joomla//EN
CALSCALE:GREGORIAN
METHOD:PUBLISH
BEGIN:VEVENT
UID:b9354c205821dd1c344fab67b12fbafb
CATEGORIES:General
CREATED:20210126T194651
SUMMARY:Feb 7  Service
DESCRIPTION:
DTSTAMP:20260422T171614
DTSTART:20210207T103000
SEQUENCE:0
TRANSP:OPAQUE
END:VEVENT
END:VCALENDAR