BEGIN:VCALENDAR
VERSION:2.0
PRODID:-//jEvents 2.0 for Joomla//EN
CALSCALE:GREGORIAN
METHOD:PUBLISH
BEGIN:VEVENT
UID:509b739332bdf1fe6da09b5ccdd37400
CATEGORIES:General
CREATED:20210205T174017
SUMMARY:Feb 14  Service
DESCRIPTION:
DTSTAMP:20260422T171608
DTSTART:20210214T103000
SEQUENCE:0
TRANSP:OPAQUE
END:VEVENT
END:VCALENDAR