BEGIN:VCALENDAR
VERSION:2.0
PRODID:-//jEvents 2.0 for Joomla//EN
CALSCALE:GREGORIAN
METHOD:PUBLISH
BEGIN:VEVENT
UID:dcc8dfdd0a19efd4c2dca73ee92f0f31
CATEGORIES:General
CREATED:20210217T221839
SUMMARY:Feb 28 Service
DESCRIPTION:
DTSTAMP:20260422T171619
DTSTART:20210228T103000
SEQUENCE:0
TRANSP:OPAQUE
END:VEVENT
END:VCALENDAR