BEGIN:VCALENDAR
VERSION:2.0
PRODID:-//jEvents 2.0 for Joomla//EN
CALSCALE:GREGORIAN
METHOD:PUBLISH
BEGIN:VEVENT
UID:4063b5affa34ae6f9f29cf4021bd76da
CATEGORIES:General
CREATED:20210309T220040
SUMMARY:March 21 Sunday Service
DESCRIPTION:
DTSTAMP:20260422T103525
DTSTART:20210321T103000
SEQUENCE:0
TRANSP:OPAQUE
END:VEVENT
END:VCALENDAR