BEGIN:VCALENDAR
VERSION:2.0
PRODID:-//jEvents 2.0 for Joomla//EN
CALSCALE:GREGORIAN
METHOD:PUBLISH
BEGIN:VEVENT
UID:725b7ef0be79992314529388d89958e1
CATEGORIES:General
CREATED:20210312T182803
SUMMARY:AGM (via Zoom)
DESCRIPTION:
DTSTAMP:20260422T162430
DTSTART:20210325T190000
SEQUENCE:0
TRANSP:OPAQUE
END:VEVENT
END:VCALENDAR