BEGIN:VCALENDAR
VERSION:2.0
PRODID:-//jEvents 2.0 for Joomla//EN
CALSCALE:GREGORIAN
METHOD:PUBLISH
BEGIN:VEVENT
UID:7c9006fe91257247a4ff52132908bc71
CATEGORIES:General
CREATED:20210312T183307
SUMMARY:March 28 Sunday Service
DESCRIPTION:
DTSTAMP:20260422T101759
DTSTART:20210328T103000
SEQUENCE:0
TRANSP:OPAQUE
END:VEVENT
END:VCALENDAR