BEGIN:VCALENDAR
VERSION:2.0
PRODID:-//jEvents 2.0 for Joomla//EN
CALSCALE:GREGORIAN
METHOD:PUBLISH
BEGIN:VEVENT
UID:b6414294825ad0473ff0dc6453e8762a
CATEGORIES:General
CREATED:20210420T190433
SUMMARY:Sunday Service
DESCRIPTION:
DTSTAMP:20260422T085734
DTSTART:20210502T103000
SEQUENCE:0
TRANSP:OPAQUE
END:VEVENT
END:VCALENDAR