BEGIN:VCALENDAR
VERSION:2.0
PRODID:-//jEvents 2.0 for Joomla//EN
CALSCALE:GREGORIAN
METHOD:PUBLISH
BEGIN:VEVENT
UID:bdc638d7d927f251299014461533c824
CATEGORIES:General
CREATED:20210504T192501
SUMMARY:Sunday Service
DESCRIPTION:
DTSTAMP:20260422T103536
DTSTART:20210516T103000
SEQUENCE:0
TRANSP:OPAQUE
END:VEVENT
END:VCALENDAR