BEGIN:VCALENDAR
VERSION:2.0
PRODID:-//jEvents 2.0 for Joomla//EN
CALSCALE:GREGORIAN
METHOD:PUBLISH
BEGIN:VEVENT
UID:2133db3e759e63ff435953736e071aeb
CATEGORIES:General
CREATED:20210512T175848
SUMMARY:Sunday Service
DESCRIPTION:
DTSTAMP:20260422T090017
DTSTART:20210523T103000
SEQUENCE:0
TRANSP:OPAQUE
END:VEVENT
END:VCALENDAR