BEGIN:VCALENDAR
VERSION:2.0
PRODID:-//jEvents 2.0 for Joomla//EN
CALSCALE:GREGORIAN
METHOD:PUBLISH
BEGIN:VEVENT
UID:9368f4b33b041212badda262f09a7ef6
CATEGORIES:General
CREATED:20210610T223457
SUMMARY:7 pm Prayer meeting
DESCRIPTION:
DTSTAMP:20260422T171604
DTSTART;VALUE=DATE:20210613
DTEND;VALUE=DATE:20210614
SEQUENCE:0
TRANSP:OPAQUE
END:VEVENT
END:VCALENDAR