BEGIN:VCALENDAR
VERSION:2.0
PRODID:-//jEvents 2.0 for Joomla//EN
CALSCALE:GREGORIAN
METHOD:PUBLISH
BEGIN:VEVENT
UID:e359d041d3b12e1fa48d5b58928d507e
CATEGORIES:General
CREATED:19700101T000000
SUMMARY:Anderson Life Group
DESCRIPTION:
DTSTAMP:20260422T072641
DTSTART:20211026T190000
SEQUENCE:0
RRULE:FREQ=WEEKLY;UNTIL=20211222T000000Z;INTERVAL=1;BYDAY=TU
TRANSP:OPAQUE
END:VEVENT
END:VCALENDAR