BEGIN:VCALENDAR
VERSION:2.0
PRODID:-//jEvents 2.0 for Joomla//EN
CALSCALE:GREGORIAN
METHOD:PUBLISH
BEGIN:VEVENT
UID:60653040f7f857152975b6b5b1c3fee5
CATEGORIES:General
CREATED:19700101T000000
SUMMARY:Adult Gathering
DESCRIPTION:
DTSTAMP:20260422T073900
DTSTART:20211017T091500
SEQUENCE:0
RRULE:FREQ=WEEKLY;UNTIL=20211129T000000Z;INTERVAL=1;BYDAY=SU
TRANSP:OPAQUE
END:VEVENT
END:VCALENDAR