BEGIN:VCALENDAR
VERSION:2.0
PRODID:-//jEvents 2.0 for Joomla//EN
CALSCALE:GREGORIAN
METHOD:PUBLISH
BEGIN:VEVENT
UID:284f5f7dd89b733d83dc82a1b20dc589
CATEGORIES:General
CREATED:20220413T221435
SUMMARY:Potluck Breakfast 
DESCRIPTION:
DTSTAMP:20260421T135151
DTSTART:20220417T090000
DTEND:20220417T100000
SEQUENCE:0
TRANSP:OPAQUE
END:VEVENT
END:VCALENDAR