BEGIN:VCALENDAR
VERSION:2.0
PRODID:-//jEvents 2.0 for Joomla//EN
CALSCALE:GREGORIAN
METHOD:PUBLISH
BEGIN:VEVENT
UID:97b9fb2b0913aeb012269b4f478a2807
CATEGORIES:General
CREATED:20230531T224341
SUMMARY:Bible Reading Club
DESCRIPTION:
DTSTAMP:20260422T042814
DTSTART:20230604T120000
SEQUENCE:0
TRANSP:OPAQUE
END:VEVENT
END:VCALENDAR