BEGIN:VCALENDAR
VERSION:2.0
PRODID:-//jEvents 2.0 for Joomla//EN
CALSCALE:GREGORIAN
METHOD:PUBLISH
BEGIN:VEVENT
UID:cb67819a4559d8c3d9e379cba26bdd48
CATEGORIES:General
CREATED:20230531T224542
SUMMARY:church at Pike Lake
DESCRIPTION:
DTSTAMP:20260422T042809
DTSTART:20230625T103000
SEQUENCE:0
TRANSP:OPAQUE
END:VEVENT
END:VCALENDAR