BEGIN:VCALENDAR
VERSION:2.0
PRODID:-//jEvents 2.0 for Joomla//EN
CALSCALE:GREGORIAN
METHOD:PUBLISH
BEGIN:VEVENT
UID:f74e3ca693b4b94ee87de1a52de6e03b
CATEGORIES:General
CREATED:20230531T224614
SUMMARY:Council Meeting
DESCRIPTION:
DTSTAMP:20260422T042637
DTSTART:20230627T190000
SEQUENCE:0
TRANSP:OPAQUE
END:VEVENT
END:VCALENDAR