BEGIN:VCALENDAR
VERSION:2.0
PRODID:-//jEvents 2.0 for Joomla//EN
CALSCALE:GREGORIAN
METHOD:PUBLISH
BEGIN:VEVENT
UID:97d028e5ddb5bde4afef12745c51664a
CATEGORIES:General
CREATED:20230531T224653
SUMMARY:Friday Night Games Night
DESCRIPTION:
DTSTAMP:20260421T170400
DTSTART:20230602T190000
SEQUENCE:0
TRANSP:OPAQUE
END:VEVENT
END:VCALENDAR