BEGIN:VCALENDAR
VERSION:2.0
PRODID:-//jEvents 2.0 for Joomla//EN
CALSCALE:GREGORIAN
METHOD:PUBLISH
BEGIN:VEVENT
UID:bf836d3f41a1fe2de02050d1f357b2e8
CATEGORIES:General
CREATED:20231004T171400
SUMMARY:Bible Reading Club
DESCRIPTION:
DTSTAMP:20260422T162409
DTSTART:20231029T120000
SEQUENCE:0
TRANSP:OPAQUE
END:VEVENT
END:VCALENDAR