BEGIN:VCALENDAR
VERSION:2.0
PRODID:-//jEvents 2.0 for Joomla//EN
CALSCALE:GREGORIAN
METHOD:PUBLISH
BEGIN:VEVENT
UID:c72ccca11b8e29b34af4b43632520776
CATEGORIES:General
CREATED:20231004T171454
SUMMARY:Bible Reading Club
DESCRIPTION:
DTSTAMP:20260422T100829
DTSTART:20231203T120000
SEQUENCE:0
TRANSP:OPAQUE
END:VEVENT
END:VCALENDAR