BEGIN:VCALENDAR
VERSION:2.0
PRODID:-//jEvents 2.0 for Joomla//EN
CALSCALE:GREGORIAN
METHOD:PUBLISH
BEGIN:VEVENT
UID:e6b189052d6dd02182333012fdfa3328
CATEGORIES:General
CREATED:19700101T000000
SUMMARY:Mom's Group- 10 a.m.- noon
DESCRIPTION:
DTSTAMP:20260422T100829
DTSTART:20231006T100000
DTEND:20231006T120000
SEQUENCE:0
RRULE:FREQ=WEEKLY;UNTIL=20231223T000000Z;INTERVAL=1;BYDAY=FR
TRANSP:OPAQUE
END:VEVENT
END:VCALENDAR