BEGIN:VCALENDAR
VERSION:2.0
PRODID:-//jEvents 2.0 for Joomla//EN
CALSCALE:GREGORIAN
METHOD:PUBLISH
BEGIN:VEVENT
UID:4841a3100b69a2ad6d1c06cf6b4e81b2
CATEGORIES:General
CREATED:20231221T092252
SUMMARY:Candle light Service
DESCRIPTION:
DTSTAMP:20260422T101949
DTSTART:20231224T183000
SEQUENCE:0
TRANSP:OPAQUE
END:VEVENT
END:VCALENDAR