BEGIN:VCALENDAR
VERSION:2.0
PRODID:-//jEvents 2.0 for Joomla//EN
CALSCALE:GREGORIAN
METHOD:PUBLISH
BEGIN:VEVENT
UID:24e05029d2462afc3e117cdb35a31731
CATEGORIES:General
CREATED:20231221T092349
SUMMARY:No church service
DESCRIPTION:
DTSTAMP:20260422T100827
DTSTART:20231231T103000
SEQUENCE:0
TRANSP:OPAQUE
END:VEVENT
END:VCALENDAR