BEGIN:VCALENDAR
VERSION:2.0
PRODID:-//jEvents 2.0 for Joomla//EN
CALSCALE:GREGORIAN
METHOD:PUBLISH
BEGIN:VEVENT
UID:c61f0e64279941f42393830378b994ea
CATEGORIES:General
CREATED:20240223T125717
SUMMARY:Men's Breakfast at church
DESCRIPTION:
DTSTAMP:20260421T235231
DTSTART:20240309T080000
SEQUENCE:0
TRANSP:OPAQUE
END:VEVENT
END:VCALENDAR