BEGIN:VCALENDAR
VERSION:2.0
PRODID:-//jEvents 2.0 for Joomla//EN
CALSCALE:GREGORIAN
METHOD:PUBLISH
BEGIN:VEVENT
UID:f9eb0d071ff2c1387227e4d1a84f474b
CATEGORIES:General
CREATED:20240223T125758
SUMMARY:AGM
DESCRIPTION:
DTSTAMP:20260422T053823
DTSTART:20240321T183000
SEQUENCE:0
TRANSP:OPAQUE
END:VEVENT
END:VCALENDAR