BEGIN:VCALENDAR
VERSION:2.0
PRODID:-//jEvents 2.0 for Joomla//EN
CALSCALE:GREGORIAN
METHOD:PUBLISH
BEGIN:VEVENT
UID:a48324d68764871f45bd8d0174cc85ce
CATEGORIES:General
CREATED:20240229T155521
SUMMARY:Men's Breakfast at church
DESCRIPTION:
DTSTAMP:20260422T063240
DTSTART:20240406T080000
SEQUENCE:0
TRANSP:OPAQUE
END:VEVENT
END:VCALENDAR