BEGIN:VCALENDAR
VERSION:2.0
PRODID:-//jEvents 2.0 for Joomla//EN
CALSCALE:GREGORIAN
METHOD:PUBLISH
BEGIN:VEVENT
UID:f398035ad8827a309c8a88a8b1bcbb63
CATEGORIES:General
CREATED:20250123T201356
SUMMARY:Games Night
DESCRIPTION:
DTSTAMP:20260422T082431
DTSTART:20241129T190000
SEQUENCE:0
TRANSP:OPAQUE
END:VEVENT
END:VCALENDAR