BEGIN:VCALENDAR
VERSION:2.0
PRODID:-//jEvents 2.0 for Joomla//EN
CALSCALE:GREGORIAN
METHOD:PUBLISH
BEGIN:VEVENT
UID:718b98f302341893f6a39e4be4365bfd
CATEGORIES:General
CREATED:20250523T180359
SUMMARY:Women's crafting morning
DESCRIPTION:
DTSTAMP:20260422T063318
DTSTART:20250607T100000
SEQUENCE:0
TRANSP:OPAQUE
END:VEVENT
END:VCALENDAR