BEGIN:VCALENDAR
VERSION:2.0
PRODID:-//jEvents 2.0 for Joomla//EN
CALSCALE:GREGORIAN
METHOD:PUBLISH
BEGIN:VEVENT
UID:85fb8ab9f1fd94995cc89fa7124f5b37
CATEGORIES:General
CREATED:20250619T174345
SUMMARY:Council Meeting
DESCRIPTION:
DTSTAMP:20260422T065234
DTSTART:20250626T190000
SEQUENCE:0
TRANSP:OPAQUE
END:VEVENT
END:VCALENDAR