BEGIN:VCALENDAR
VERSION:2.0
PRODID:-//jEvents 2.0 for Joomla//EN
CALSCALE:GREGORIAN
METHOD:PUBLISH
BEGIN:VEVENT
UID:ffa8953cc564a82064ccf3605853e888
CATEGORIES:General
CREATED:20250722T164438
SUMMARY:Picnic in the Park (following the morning service)
DESCRIPTION:
DTSTAMP:20260421T220844
DTSTART:20250810T120000
SEQUENCE:0
TRANSP:OPAQUE
END:VEVENT
END:VCALENDAR