BEGIN:VCALENDAR
VERSION:2.0
PRODID:-//jEvents 2.0 for Joomla//EN
CALSCALE:GREGORIAN
METHOD:PUBLISH
BEGIN:VEVENT
UID:31835f4c3c12069a185fa03625aed1b8
CATEGORIES:General
CREATED:20250925T214913
SUMMARY:Thanksgiving Celebration 
DESCRIPTION:
DTSTAMP:20260422T144549
DTSTART:20251005T120000
SEQUENCE:0
TRANSP:OPAQUE
END:VEVENT
END:VCALENDAR