BEGIN:VCALENDAR
VERSION:2.0
PRODID:-//jEvents 2.0 for Joomla//EN
CALSCALE:GREGORIAN
METHOD:PUBLISH
BEGIN:VEVENT
UID:86484b54c294d761b7a415969c3ff777
CATEGORIES:General
CREATED:20250925T215205
SUMMARY:Congregational meeting and potluck
DESCRIPTION:
DTSTAMP:20260422T144551
DTSTART;VALUE=DATE:20251019
SEQUENCE:0
TRANSP:OPAQUE
END:VEVENT
END:VCALENDAR