BEGIN:VCALENDAR
VERSION:2.0
PRODID:-//jEvents 2.0 for Joomla//EN
CALSCALE:GREGORIAN
METHOD:PUBLISH
BEGIN:VEVENT
UID:57a7a538a9fb6151d189e2f55aa3af44
CATEGORIES:General
CREATED:20251031T182327
SUMMARY:Games Night
DESCRIPTION:
DTSTAMP:20260422T100827
DTSTART:20251128T190000
SEQUENCE:0
TRANSP:OPAQUE
END:VEVENT
END:VCALENDAR