BEGIN:VCALENDAR
VERSION:2.0
PRODID:-//jEvents 2.0 for Joomla//EN
CALSCALE:GREGORIAN
METHOD:PUBLISH
BEGIN:VEVENT
UID:5979935bd3f5333b6acb79c07e532b94
CATEGORIES:General
CREATED:20211027T163955
SUMMARY:Prayer Meeting
DESCRIPTION:
DTSTAMP:20260422T073910
DTSTART:20211128T190000
SEQUENCE:0
TRANSP:OPAQUE
END:VEVENT
END:VCALENDAR