BEGIN:VCALENDAR
VERSION:2.0
PRODID:-//jEvents 2.0 for Joomla//EN
CALSCALE:GREGORIAN
METHOD:PUBLISH
BEGIN:VEVENT
UID:e359d041d3b12e1fa48d5b58928d507e
CATEGORIES:General
CREATED:20211027T164443
SUMMARY:Anderson Life Group
DESCRIPTION:
DTSTAMP:20260422T073833
DTSTART:20211130T190000
SEQUENCE:0
TRANSP:OPAQUE
END:VEVENT
END:VCALENDAR