BEGIN:VCALENDAR
VERSION:2.0
PRODID:-//jEvents 2.0 for Joomla//EN
CALSCALE:GREGORIAN
METHOD:PUBLISH
BEGIN:VEVENT
UID:60653040f7f857152975b6b5b1c3fee5
CATEGORIES:General
CREATED:20211027T173320
SUMMARY:Adult Gathering
DESCRIPTION:
DTSTAMP:20260422T074207
DTSTART:20211107T091500
SEQUENCE:0
TRANSP:OPAQUE
END:VEVENT
END:VCALENDAR