BEGIN:VCALENDAR
VERSION:2.0
PRODID:-//jEvents 2.0 for Joomla//EN
CALSCALE:GREGORIAN
METHOD:PUBLISH
BEGIN:VEVENT
UID:10523af4c6c1e550ac10e495cec4d219
CATEGORIES:General
CREATED:20230531T224236
SUMMARY:ESL Classes 
DESCRIPTION:
DTSTAMP:20260422T064641
DTSTART:20230623T173000
DTEND:20230623T203000
SEQUENCE:0
TRANSP:OPAQUE
END:VEVENT
END:VCALENDAR