BEGIN:VCALENDAR
VERSION:2.0
PRODID:-//jEvents 2.0 for Joomla//EN
CALSCALE:GREGORIAN
METHOD:PUBLISH
BEGIN:VEVENT
UID:e6b189052d6dd02182333012fdfa3328
CATEGORIES:General
CREATED:20231005T164657
SUMMARY:Mom's Group- 10 a.m.- noon
DESCRIPTION:
DTSTAMP:20260422T100831
DTSTART:20231215T100000
DTEND:20231215T120000
SEQUENCE:0
TRANSP:OPAQUE
END:VEVENT
END:VCALENDAR